BEGIN:VCALENDAR
VERSION:2.0
PRODID:-//Endorso//Watch Free Events//EN
CALSCALE:GREGORIAN
METHOD:PUBLISH
BEGIN:VEVENT
UID:ipl-2026-punjab-kings-vs-kolkata-knight-riders-2026-05-03@endorso.com
DTSTAMP:20260420T112312Z
DTSTART:20260503T140000Z
DTEND:20260503T160000Z
SUMMARY:Punjab Kings vs Kolkata Knight Riders — IPL 2026 (Watch Free with VPN)
DESCRIPTION:PBKS and KKR clash in an important IPL 2026 match. Both teams are looking to climb the standings and secure a playoff berth.\\n\\nFree on JioCinema (India).\\n\\nFull guide: https://endorso.com/vpn/watch/ipl-2026-punjab-kings-vs-kolkata-knight-riders-2026-05-03
URL:https://endorso.com/vpn/watch/ipl-2026-punjab-kings-vs-kolkata-knight-riders-2026-05-03
LOCATION:https://endorso.com/vpn/watch/ipl-2026-punjab-kings-vs-kolkata-knight-riders-2026-05-03
END:VEVENT
END:VCALENDAR