BEGIN:VCALENDAR
VERSION:2.0
PRODID:-//Endorso//Watch Free Events//EN
CALSCALE:GREGORIAN
METHOD:PUBLISH
BEGIN:VEVENT
UID:ipl-2026-mumbai-indians-vs-royal-challengers-bengaluru-2026-05-09@endorso.com
DTSTAMP:20260425T204142Z
DTSTART:20260509T140000Z
DTEND:20260509T160000Z
SUMMARY:Mumbai Indians vs Royal Challengers Bengaluru — IPL 2026 (Watch Free with VPN)
DESCRIPTION:The final weekend of the group stage begins with this blockbuster. Playoff spots are likely on the line in this star-studded matchup.\\n\\nFree on JioCinema (India).\\n\\nFull guide: https://endorso.com/vpn/watch/ipl-2026-mumbai-indians-vs-royal-challengers-bengaluru-2026-05-09
URL:https://endorso.com/vpn/watch/ipl-2026-mumbai-indians-vs-royal-challengers-bengaluru-2026-05-09
LOCATION:https://endorso.com/vpn/watch/ipl-2026-mumbai-indians-vs-royal-challengers-bengaluru-2026-05-09
END:VEVENT
END:VCALENDAR