BEGIN:VCALENDAR
VERSION:2.0
PRODID:-//Endorso//Watch Free Events//EN
CALSCALE:GREGORIAN
METHOD:PUBLISH
BEGIN:VEVENT
UID:ipl-2026-mumbai-indians-vs-royal-challengers-bengaluru-2026-05-05@endorso.com
DTSTAMP:20260425T160113Z
DTSTART:20260505T140000Z
DTEND:20260505T160000Z
SUMMARY:Mumbai Indians vs Royal Challengers Bengaluru — IPL 2026 (Watch Free with VPN)
DESCRIPTION:A blockbuster Tuesday clash at the Wankhede Stadium. Two of the most followed teams in the world compete for dominance in the points table.\\n\\nFree on JioCinema (India).\\n\\nFull guide: https://endorso.com/vpn/watch/ipl-2026-mumbai-indians-vs-royal-challengers-bengaluru-2026-05-05
URL:https://endorso.com/vpn/watch/ipl-2026-mumbai-indians-vs-royal-challengers-bengaluru-2026-05-05
LOCATION:https://endorso.com/vpn/watch/ipl-2026-mumbai-indians-vs-royal-challengers-bengaluru-2026-05-05
END:VEVENT
END:VCALENDAR