BEGIN:VCALENDAR
VERSION:2.0
PRODID:-//Endorso//Watch Free Events//EN
CALSCALE:GREGORIAN
METHOD:PUBLISH
BEGIN:VEVENT
UID:ipl-2026-mumbai-indians-vs-rajasthan-royals-2026-05-03@endorso.com
DTSTAMP:20260419T195824Z
DTSTART:20260503T140000Z
DTEND:20260503T160000Z
SUMMARY:Mumbai Indians vs Rajasthan Royals — IPL 2026 (Watch Free with VPN)
DESCRIPTION:IPL 2026 match between Mumbai Indians and Rajasthan Royals. This match is crucial for both teams as they aim to climb up the league table and secure a playoff spot.\\n\\nFree on JioCinema (India).\\n\\nFull guide: https://endorso.com/vpn/watch/ipl-2026-mumbai-indians-vs-rajasthan-royals-2026-05-03
URL:https://endorso.com/vpn/watch/ipl-2026-mumbai-indians-vs-rajasthan-royals-2026-05-03
LOCATION:https://endorso.com/vpn/watch/ipl-2026-mumbai-indians-vs-rajasthan-royals-2026-05-03
END:VEVENT
END:VCALENDAR