BEGIN:VCALENDAR
VERSION:2.0
PRODID:-//Endorso//Watch Free Events//EN
CALSCALE:GREGORIAN
METHOD:PUBLISH
BEGIN:VEVENT
UID:ipl-2026-mumbai-indians-vs-delhi-capitals-2026-04-27@endorso.com
DTSTAMP:20260420T112037Z
DTSTART:20260427T140000Z
DTEND:20260427T160000Z
SUMMARY:Mumbai Indians vs Delhi Capitals — IPL 2026 (Watch Free with VPN)
DESCRIPTION:MI and DC clash in an important IPL 2026 match. Both teams are looking to climb the standings and secure a playoff berth.\\n\\nFree on JioCinema (India).\\n\\nFull guide: https://endorso.com/vpn/watch/ipl-2026-mumbai-indians-vs-delhi-capitals-2026-04-27
URL:https://endorso.com/vpn/watch/ipl-2026-mumbai-indians-vs-delhi-capitals-2026-04-27
LOCATION:https://endorso.com/vpn/watch/ipl-2026-mumbai-indians-vs-delhi-capitals-2026-04-27
END:VEVENT
END:VCALENDAR