BEGIN:VCALENDAR
VERSION:2.0
PRODID:-//Endorso//Watch Free Events//EN
CALSCALE:GREGORIAN
METHOD:PUBLISH
BEGIN:VEVENT
UID:ipl-2026-mumbai-indians-vs-chennai-super-kings-2026-05-08@endorso.com
DTSTAMP:20260424T191851Z
DTSTART:20260508T140000Z
DTEND:20260508T160000Z
SUMMARY:Mumbai Indians vs Chennai Super Kings — IPL 2026 (Watch Free with VPN)
DESCRIPTION:The return leg of the IPL's biggest rivalry. Wankhede Stadium hosts this Friday night blockbuster as the playoff race heats up.\\n\\nFree on JioCinema (India).\\n\\nFull guide: https://endorso.com/vpn/watch/ipl-2026-mumbai-indians-vs-chennai-super-kings-2026-05-08
URL:https://endorso.com/vpn/watch/ipl-2026-mumbai-indians-vs-chennai-super-kings-2026-05-08
LOCATION:https://endorso.com/vpn/watch/ipl-2026-mumbai-indians-vs-chennai-super-kings-2026-05-08
END:VEVENT
END:VCALENDAR