BEGIN:VCALENDAR
VERSION:2.0
PRODID:-//Endorso//Watch Free Events//EN
CALSCALE:GREGORIAN
METHOD:PUBLISH
BEGIN:VEVENT
UID:ipl-2026-mumbai-indians-vs-chennai-super-kings-2026-05-06@endorso.com
DTSTAMP:20260422T045644Z
DTSTART:20260506T140000Z
DTEND:20260506T160000Z
SUMMARY:Mumbai Indians vs Chennai Super Kings — IPL 2026 (Watch Free with VPN)
DESCRIPTION:The return leg of the IPL's biggest rivalry. Wankhede Stadium turns blue as MI hosts CSK in a match that often decides the top of the table.\\n\\nFree on JioCinema (India).\\n\\nFull guide: https://endorso.com/vpn/watch/ipl-2026-mumbai-indians-vs-chennai-super-kings-2026-05-06
URL:https://endorso.com/vpn/watch/ipl-2026-mumbai-indians-vs-chennai-super-kings-2026-05-06
LOCATION:https://endorso.com/vpn/watch/ipl-2026-mumbai-indians-vs-chennai-super-kings-2026-05-06
END:VEVENT
END:VCALENDAR