BEGIN:VCALENDAR
VERSION:2.0
PRODID:-//Endorso//Watch Free Events//EN
CALSCALE:GREGORIAN
METHOD:PUBLISH
BEGIN:VEVENT
UID:ipl-2026-lucknow-super-giants-vs-sunrisers-hyderabad-2026-05-04@endorso.com
DTSTAMP:20260422T164901Z
DTSTART:20260504T140000Z
DTEND:20260504T160000Z
SUMMARY:Lucknow Super Giants vs Sunrisers Hyderabad — IPL 2026 (Watch Free with VPN)
DESCRIPTION:Two heavy hitters of the mid-table battle it out in Lucknow. SRH's aggressive batting lineup faces the disciplined bowling of LSG.\\n\\nFree on JioCinema (India).\\n\\nFull guide: https://endorso.com/vpn/watch/ipl-2026-lucknow-super-giants-vs-sunrisers-hyderabad-2026-05-04
URL:https://endorso.com/vpn/watch/ipl-2026-lucknow-super-giants-vs-sunrisers-hyderabad-2026-05-04
LOCATION:https://endorso.com/vpn/watch/ipl-2026-lucknow-super-giants-vs-sunrisers-hyderabad-2026-05-04
END:VEVENT
END:VCALENDAR