BEGIN:VCALENDAR
VERSION:2.0
PRODID:-//Endorso//Watch Free Events//EN
CALSCALE:GREGORIAN
METHOD:PUBLISH
BEGIN:VEVENT
UID:ipl-2026-lucknow-super-giants-vs-sunrisers-hyderabad-2026-05-03@endorso.com
DTSTAMP:20260424T192111Z
DTSTART:20260503T140000Z
DTEND:20260503T160000Z
SUMMARY:Lucknow Super Giants vs Sunrisers Hyderabad — IPL 2026 (Watch Free with VPN)
DESCRIPTION:A battle of the heavy hitters. SRH's aggressive batting lineup faces the disciplined bowling attack of LSG in Lucknow.\\n\\nFree on JioCinema (India).\\n\\nFull guide: https://endorso.com/vpn/watch/ipl-2026-lucknow-super-giants-vs-sunrisers-hyderabad-2026-05-03
URL:https://endorso.com/vpn/watch/ipl-2026-lucknow-super-giants-vs-sunrisers-hyderabad-2026-05-03
LOCATION:https://endorso.com/vpn/watch/ipl-2026-lucknow-super-giants-vs-sunrisers-hyderabad-2026-05-03
END:VEVENT
END:VCALENDAR