BEGIN:VCALENDAR
VERSION:2.0
PRODID:-//Endorso//Watch Free Events//EN
CALSCALE:GREGORIAN
METHOD:PUBLISH
BEGIN:VEVENT
UID:ipl-2026-lucknow-super-giants-vs-delhi-capitals-2026-05-04@endorso.com
DTSTAMP:20260422T104535Z
DTSTART:20260504T140000Z
DTEND:20260504T160000Z
SUMMARY:Lucknow Super Giants vs Delhi Capitals — IPL 2026 (Watch Free with VPN)
DESCRIPTION:LSG hosts DC in a mid-table battle. Both teams need a win to stay in the hunt for the top four as the tournament enters its final month.\\n\\nFree on JioCinema (India).\\n\\nFull guide: https://endorso.com/vpn/watch/ipl-2026-lucknow-super-giants-vs-delhi-capitals-2026-05-04
URL:https://endorso.com/vpn/watch/ipl-2026-lucknow-super-giants-vs-delhi-capitals-2026-05-04
LOCATION:https://endorso.com/vpn/watch/ipl-2026-lucknow-super-giants-vs-delhi-capitals-2026-05-04
END:VEVENT
END:VCALENDAR