BEGIN:VCALENDAR
VERSION:2.0
PRODID:-//Endorso//Watch Free Events//EN
CALSCALE:GREGORIAN
METHOD:PUBLISH
BEGIN:VEVENT
UID:ipl-2026-lucknow-super-giants-vs-delhi-capitals-2026-05-01@endorso.com
DTSTAMP:20260425T161627Z
DTSTART:20260501T140000Z
DTEND:20260501T160000Z
SUMMARY:Lucknow Super Giants vs Delhi Capitals — IPL 2026 (Watch Free with VPN)
DESCRIPTION:LSG hosts DC in a crucial mid-table clash. Both teams are fighting for the top four spots as the tournament enters its final month.\\n\\nFree on JioCinema (India).\\n\\nFull guide: https://endorso.com/vpn/watch/ipl-2026-lucknow-super-giants-vs-delhi-capitals-2026-05-01
URL:https://endorso.com/vpn/watch/ipl-2026-lucknow-super-giants-vs-delhi-capitals-2026-05-01
LOCATION:https://endorso.com/vpn/watch/ipl-2026-lucknow-super-giants-vs-delhi-capitals-2026-05-01
END:VEVENT
END:VCALENDAR