BEGIN:VCALENDAR
VERSION:2.0
PRODID:-//Endorso//Watch Free Events//EN
CALSCALE:GREGORIAN
METHOD:PUBLISH
BEGIN:VEVENT
UID:ipl-2026-lucknow-super-giants-vs-delhi-capitals-2026-04-30@endorso.com
DTSTAMP:20260425T025008Z
DTSTART:20260430T140000Z
DTEND:20260430T160000Z
SUMMARY:Lucknow Super Giants vs Delhi Capitals — IPL 2026 (Watch Free with VPN)
DESCRIPTION:KL Rahul's LSG takes on Rishabh Pant's DC. Both teams are desperate for points as the mid-season table begins to take shape.\\n\\nFree on JioCinema (India).\\n\\nFull guide: https://endorso.com/vpn/watch/ipl-2026-lucknow-super-giants-vs-delhi-capitals-2026-04-30
URL:https://endorso.com/vpn/watch/ipl-2026-lucknow-super-giants-vs-delhi-capitals-2026-04-30
LOCATION:https://endorso.com/vpn/watch/ipl-2026-lucknow-super-giants-vs-delhi-capitals-2026-04-30
END:VEVENT
END:VCALENDAR