BEGIN:VCALENDAR
VERSION:2.0
PRODID:-//Endorso//Watch Free Events//EN
CALSCALE:GREGORIAN
METHOD:PUBLISH
BEGIN:VEVENT
UID:ipl-2026-lucknow-super-giants-vs-delhi-capitals-2026-04-27@endorso.com
DTSTAMP:20260419T200122Z
DTSTART:20260427T100000Z
DTEND:20260427T120000Z
SUMMARY:Lucknow Super Giants vs Delhi Capitals — IPL 2026 (Watch Free with VPN)
DESCRIPTION:IPL 2026 match between Lucknow Super Giants and Delhi Capitals. Both teams are looking to secure a crucial win in the league stage to improve their chances of qualifying for the playoffs.\\n\\nFree on JioCinema (India).\\n\\nFull guide: https://endorso.com/vpn/watch/ipl-2026-lucknow-super-giants-vs-delhi-capitals-2026-04-27
URL:https://endorso.com/vpn/watch/ipl-2026-lucknow-super-giants-vs-delhi-capitals-2026-04-27
LOCATION:https://endorso.com/vpn/watch/ipl-2026-lucknow-super-giants-vs-delhi-capitals-2026-04-27
END:VEVENT
END:VCALENDAR