BEGIN:VCALENDAR
VERSION:2.0
PRODID:-//Endorso//Watch Free Events//EN
CALSCALE:GREGORIAN
METHOD:PUBLISH
BEGIN:VEVENT
UID:ipl-2026-kolkata-knight-riders-vs-royal-challengers-bengaluru-2026-05-08@endorso.com
DTSTAMP:20260425T024941Z
DTSTART:20260508T140000Z
DTEND:20260508T160000Z
SUMMARY:Kolkata Knight Riders vs Royal Challengers Bengaluru — IPL 2026 (Watch Free with VPN)
DESCRIPTION:The return fixture at Eden Gardens. KKR's spin twins face off against RCB's powerhouse batting lineup in a crucial late-season clash.\\n\\nFree on JioCinema (India).\\n\\nFull guide: https://endorso.com/vpn/watch/ipl-2026-kolkata-knight-riders-vs-royal-challengers-bengaluru-2026-05-08
URL:https://endorso.com/vpn/watch/ipl-2026-kolkata-knight-riders-vs-royal-challengers-bengaluru-2026-05-08
LOCATION:https://endorso.com/vpn/watch/ipl-2026-kolkata-knight-riders-vs-royal-challengers-bengaluru-2026-05-08
END:VEVENT
END:VCALENDAR