BEGIN:VCALENDAR
VERSION:2.0
PRODID:-//Endorso//Watch Free Events//EN
CALSCALE:GREGORIAN
METHOD:PUBLISH
BEGIN:VEVENT
UID:ipl-2026-kolkata-knight-riders-vs-rajasthan-royals-2026-04-28@endorso.com
DTSTAMP:20260421T194641Z
DTSTART:20260428T140000Z
DTEND:20260428T160000Z
SUMMARY:Kolkata Knight Riders vs Rajasthan Royals — IPL 2026 (Watch Free with VPN)
DESCRIPTION:A battle between the spin-heavy KKR and the explosive batting lineup of the Royals at Eden Gardens.\\n\\nFree on JioCinema (India).\\n\\nFull guide: https://endorso.com/vpn/watch/ipl-2026-kolkata-knight-riders-vs-rajasthan-royals-2026-04-28
URL:https://endorso.com/vpn/watch/ipl-2026-kolkata-knight-riders-vs-rajasthan-royals-2026-04-28
LOCATION:https://endorso.com/vpn/watch/ipl-2026-kolkata-knight-riders-vs-rajasthan-royals-2026-04-28
END:VEVENT
END:VCALENDAR