BEGIN:VCALENDAR
VERSION:2.0
PRODID:-//Endorso//Watch Free Events//EN
CALSCALE:GREGORIAN
METHOD:PUBLISH
BEGIN:VEVENT
UID:ipl-2026-kolkata-knight-riders-vs-mumbai-indians-2026-04-27@endorso.com
DTSTAMP:20260419T200143Z
DTSTART:20260427T140000Z
DTEND:20260427T160000Z
SUMMARY:Kolkata Knight Riders vs Mumbai Indians — IPL 2026 (Watch Free with VPN)
DESCRIPTION:IPL 2026 match between Kolkata Knight Riders and Mumbai Indians. This match is crucial for both teams as they aim to climb up the league table and secure a playoff spot.\\n\\nFree on JioCinema (India).\\n\\nFull guide: https://endorso.com/vpn/watch/ipl-2026-kolkata-knight-riders-vs-mumbai-indians-2026-04-27
URL:https://endorso.com/vpn/watch/ipl-2026-kolkata-knight-riders-vs-mumbai-indians-2026-04-27
LOCATION:https://endorso.com/vpn/watch/ipl-2026-kolkata-knight-riders-vs-mumbai-indians-2026-04-27
END:VEVENT
END:VCALENDAR