BEGIN:VCALENDAR
VERSION:2.0
PRODID:-//Endorso//Watch Free Events//EN
CALSCALE:GREGORIAN
METHOD:PUBLISH
BEGIN:VEVENT
UID:ipl-2026-kolkata-knight-riders-vs-delhi-capitals-2026-04-29@endorso.com
DTSTAMP:20260420T112327Z
DTSTART:20260429T140000Z
DTEND:20260429T160000Z
SUMMARY:Kolkata Knight Riders vs Delhi Capitals — IPL 2026 (Watch Free with VPN)
DESCRIPTION:KKR and DC clash in an important IPL 2026 match. Both teams are looking to climb the standings and secure a playoff berth.\\n\\nFree on JioCinema (India).\\n\\nFull guide: https://endorso.com/vpn/watch/ipl-2026-kolkata-knight-riders-vs-delhi-capitals-2026-04-29
URL:https://endorso.com/vpn/watch/ipl-2026-kolkata-knight-riders-vs-delhi-capitals-2026-04-29
LOCATION:https://endorso.com/vpn/watch/ipl-2026-kolkata-knight-riders-vs-delhi-capitals-2026-04-29
END:VEVENT
END:VCALENDAR