BEGIN:VCALENDAR
VERSION:2.0
PRODID:-//Endorso//Watch Free Events//EN
CALSCALE:GREGORIAN
METHOD:PUBLISH
BEGIN:VEVENT
UID:ipl-2026-kolkata-knight-riders-vs-chennai-super-kings-2026-05-07@endorso.com
DTSTAMP:20260425T161204Z
DTSTART:20260507T140000Z
DTEND:20260507T160000Z
SUMMARY:Kolkata Knight Riders vs Chennai Super Kings — IPL 2026 (Watch Free with VPN)
DESCRIPTION:A rematch of multiple IPL finals. The spin-friendly Eden Gardens track will test the CSK batting lineup in this high-profile fixture.\\n\\nFree on JioCinema (India).\\n\\nFull guide: https://endorso.com/vpn/watch/ipl-2026-kolkata-knight-riders-vs-chennai-super-kings-2026-05-07
URL:https://endorso.com/vpn/watch/ipl-2026-kolkata-knight-riders-vs-chennai-super-kings-2026-05-07
LOCATION:https://endorso.com/vpn/watch/ipl-2026-kolkata-knight-riders-vs-chennai-super-kings-2026-05-07
END:VEVENT
END:VCALENDAR