BEGIN:VCALENDAR
VERSION:2.0
PRODID:-//Endorso//Watch Free Events//EN
CALSCALE:GREGORIAN
METHOD:PUBLISH
BEGIN:VEVENT
UID:ipl-2026-gujarat-titans-vs-rajasthan-royals-2026-05-05@endorso.com
DTSTAMP:20260425T111758Z
DTSTART:20260505T140000Z
DTEND:20260505T160000Z
SUMMARY:Gujarat Titans vs Rajasthan Royals — IPL 2026 (Watch Free with VPN)
DESCRIPTION:A tactical battle between Shubman Gill's Titans and Sanju Samson's Royals. This match is crucial for the top-four race in the final weeks of the league.\\n\\nFree on JioCinema (India).\\n\\nFull guide: https://endorso.com/vpn/watch/ipl-2026-gujarat-titans-vs-rajasthan-royals-2026-05-05
URL:https://endorso.com/vpn/watch/ipl-2026-gujarat-titans-vs-rajasthan-royals-2026-05-05
LOCATION:https://endorso.com/vpn/watch/ipl-2026-gujarat-titans-vs-rajasthan-royals-2026-05-05
END:VEVENT
END:VCALENDAR