BEGIN:VCALENDAR
VERSION:2.0
PRODID:-//Endorso//Watch Free Events//EN
CALSCALE:GREGORIAN
METHOD:PUBLISH
BEGIN:VEVENT
UID:ipl-2026-gujarat-titans-vs-rajasthan-royals-2026-04-28@endorso.com
DTSTAMP:20260422T105328Z
DTSTART:20260428T140000Z
DTEND:20260428T160000Z
SUMMARY:Gujarat Titans vs Rajasthan Royals — IPL 2026 (Watch Free with VPN)
DESCRIPTION:A battle of the tactical masterminds. GT looks to defend their home turf in Ahmedabad against the explosive batting lineup of the Royals.\\n\\nFree on JioCinema (India).\\n\\nFull guide: https://endorso.com/vpn/watch/ipl-2026-gujarat-titans-vs-rajasthan-royals-2026-04-28
URL:https://endorso.com/vpn/watch/ipl-2026-gujarat-titans-vs-rajasthan-royals-2026-04-28
LOCATION:https://endorso.com/vpn/watch/ipl-2026-gujarat-titans-vs-rajasthan-royals-2026-04-28
END:VEVENT
END:VCALENDAR