BEGIN:VCALENDAR
VERSION:2.0
PRODID:-//Endorso//Watch Free Events//EN
CALSCALE:GREGORIAN
METHOD:PUBLISH
BEGIN:VEVENT
UID:ipl-2026-gujarat-titans-vs-rajasthan-royals-2026-04-27@endorso.com
DTSTAMP:20260425T024850Z
DTSTART:20260427T140000Z
DTEND:20260427T160000Z
SUMMARY:Gujarat Titans vs Rajasthan Royals — IPL 2026 (Watch Free with VPN)
DESCRIPTION:A battle of the tactical masterminds. GT hosts RR in Ahmedabad in a rematch of the 2022 final\, featuring world-class spin bowling.\\n\\nFree on JioCinema (India).\\n\\nFull guide: https://endorso.com/vpn/watch/ipl-2026-gujarat-titans-vs-rajasthan-royals-2026-04-27
URL:https://endorso.com/vpn/watch/ipl-2026-gujarat-titans-vs-rajasthan-royals-2026-04-27
LOCATION:https://endorso.com/vpn/watch/ipl-2026-gujarat-titans-vs-rajasthan-royals-2026-04-27
END:VEVENT
END:VCALENDAR