BEGIN:VCALENDAR
VERSION:2.0
PRODID:-//Endorso//Watch Free Events//EN
CALSCALE:GREGORIAN
METHOD:PUBLISH
BEGIN:VEVENT
UID:ipl-2026-gujarat-titans-vs-rajasthan-royals-2026-04-24@endorso.com
DTSTAMP:20260422T045540Z
DTSTART:20260424T140000Z
DTEND:20260424T160000Z
SUMMARY:Gujarat Titans vs Rajasthan Royals — IPL 2026 (Watch Free with VPN)
DESCRIPTION:A tactical battle between Shubman Gill and Sanju Samson. Both teams are fighting for a top-four spot as the league stage nears its climax.\\n\\nFree on JioCinema (India).\\n\\nFull guide: https://endorso.com/vpn/watch/ipl-2026-gujarat-titans-vs-rajasthan-royals-2026-04-24
URL:https://endorso.com/vpn/watch/ipl-2026-gujarat-titans-vs-rajasthan-royals-2026-04-24
LOCATION:https://endorso.com/vpn/watch/ipl-2026-gujarat-titans-vs-rajasthan-royals-2026-04-24
END:VEVENT
END:VCALENDAR