BEGIN:VCALENDAR
VERSION:2.0
PRODID:-//Endorso//Watch Free Events//EN
CALSCALE:GREGORIAN
METHOD:PUBLISH
BEGIN:VEVENT
UID:ipl-2026-gujarat-titans-vs-lucknow-super-giants-2026-04-29@endorso.com
DTSTAMP:20260419T140919Z
DTSTART:20260429T140000Z
DTEND:20260429T160000Z
SUMMARY:Gujarat Titans vs Lucknow Super Giants — IPL 2026 (Watch Free with VPN)
DESCRIPTION:IPL 2026 match between Gujarat Titans and Lucknow Super Giants. A crucial match for both teams as they aim to secure a spot in the top four.\\n\\nFree on JioCinema (India).\\n\\nFull guide: https://endorso.com/vpn/watch/ipl-2026-gujarat-titans-vs-lucknow-super-giants-2026-04-29
URL:https://endorso.com/vpn/watch/ipl-2026-gujarat-titans-vs-lucknow-super-giants-2026-04-29
LOCATION:https://endorso.com/vpn/watch/ipl-2026-gujarat-titans-vs-lucknow-super-giants-2026-04-29
END:VEVENT
END:VCALENDAR