BEGIN:VCALENDAR
VERSION:2.0
PRODID:-//Endorso//Watch Free Events//EN
CALSCALE:GREGORIAN
METHOD:PUBLISH
BEGIN:VEVENT
UID:ipl-2026-delhi-capitals-vs-sunrisers-hyderabad-2026-04-22@endorso.com
DTSTAMP:20260419T141053Z
DTSTART:20260422T140000Z
DTEND:20260422T160000Z
SUMMARY:Delhi Capitals vs Sunrisers Hyderabad — IPL 2026 (Watch Free with VPN)
DESCRIPTION:IPL 2026 match between Delhi Capitals and Sunrisers Hyderabad. Both teams are looking to gain momentum in the league.\\n\\nFree on JioCinema (India).\\n\\nFull guide: https://endorso.com/vpn/watch/ipl-2026-delhi-capitals-vs-sunrisers-hyderabad-2026-04-22
URL:https://endorso.com/vpn/watch/ipl-2026-delhi-capitals-vs-sunrisers-hyderabad-2026-04-22
LOCATION:https://endorso.com/vpn/watch/ipl-2026-delhi-capitals-vs-sunrisers-hyderabad-2026-04-22
END:VEVENT
END:VCALENDAR