BEGIN:VCALENDAR
VERSION:2.0
PRODID:-//Endorso//Watch Free Events//EN
CALSCALE:GREGORIAN
METHOD:PUBLISH
BEGIN:VEVENT
UID:ipl-2026-delhi-capitals-vs-punjab-kings-2026-05-09@endorso.com
DTSTAMP:20260425T141806Z
DTSTART:20260509T140000Z
DTEND:20260509T160000Z
SUMMARY:Delhi Capitals vs Punjab Kings — IPL 2026 (Watch Free with VPN)
DESCRIPTION:The Northern Derby. Rishabh Pant's DC takes on the Punjab Kings in a match that could decide the mid-table scramble for the playoffs.\\n\\nFree on JioCinema (India).\\n\\nFull guide: https://endorso.com/vpn/watch/ipl-2026-delhi-capitals-vs-punjab-kings-2026-05-09
URL:https://endorso.com/vpn/watch/ipl-2026-delhi-capitals-vs-punjab-kings-2026-05-09
LOCATION:https://endorso.com/vpn/watch/ipl-2026-delhi-capitals-vs-punjab-kings-2026-05-09
END:VEVENT
END:VCALENDAR