BEGIN:VCALENDAR
VERSION:2.0
PRODID:-//Endorso//Watch Free Events//EN
CALSCALE:GREGORIAN
METHOD:PUBLISH
BEGIN:VEVENT
UID:ipl-2026-delhi-capitals-vs-punjab-kings-2026-05-08@endorso.com
DTSTAMP:20260425T040903Z
DTSTART:20260508T140000Z
DTEND:20260508T160000Z
SUMMARY:Delhi Capitals vs Punjab Kings — IPL 2026 (Watch Free with VPN)
DESCRIPTION:North Derby in the IPL. Rishabh Pant's DC takes on the unpredictable Punjab Kings as the race for the top four intensifies.\\n\\nFree on JioCinema (India).\\n\\nFull guide: https://endorso.com/vpn/watch/ipl-2026-delhi-capitals-vs-punjab-kings-2026-05-08
URL:https://endorso.com/vpn/watch/ipl-2026-delhi-capitals-vs-punjab-kings-2026-05-08
LOCATION:https://endorso.com/vpn/watch/ipl-2026-delhi-capitals-vs-punjab-kings-2026-05-08
END:VEVENT
END:VCALENDAR