BEGIN:VCALENDAR
VERSION:2.0
PRODID:-//Endorso//Watch Free Events//EN
CALSCALE:GREGORIAN
METHOD:PUBLISH
BEGIN:VEVENT
UID:ipl-2026-delhi-capitals-vs-punjab-kings-2026-05-05@endorso.com
DTSTAMP:20260424T192656Z
DTSTART:20260505T140000Z
DTEND:20260505T160000Z
SUMMARY:Delhi Capitals vs Punjab Kings — IPL 2026 (Watch Free with VPN)
DESCRIPTION:North Indian derby in the IPL. Rishabh Pant's DC takes on the unpredictable PBKS in a mid-table tussle.\\n\\nFree on JioCinema (India).\\n\\nFull guide: https://endorso.com/vpn/watch/ipl-2026-delhi-capitals-vs-punjab-kings-2026-05-05
URL:https://endorso.com/vpn/watch/ipl-2026-delhi-capitals-vs-punjab-kings-2026-05-05
LOCATION:https://endorso.com/vpn/watch/ipl-2026-delhi-capitals-vs-punjab-kings-2026-05-05
END:VEVENT
END:VCALENDAR