BEGIN:VCALENDAR
VERSION:2.0
PRODID:-//Endorso//Watch Free Events//EN
CALSCALE:GREGORIAN
METHOD:PUBLISH
BEGIN:VEVENT
UID:ipl-2026-chennai-super-kings-vs-sunrisers-hyderabad-2026-04-27@endorso.com
DTSTAMP:20260420T112455Z
DTSTART:20260427T180000Z
DTEND:20260427T200000Z
SUMMARY:Chennai Super Kings vs Sunrisers Hyderabad — IPL 2026 (Watch Free with VPN)
DESCRIPTION:CSK and SRH face off in a crucial IPL 2026 encounter. Both teams are aiming for a win to strengthen their playoff chances.\\n\\nFree on JioCinema (India).\\n\\nFull guide: https://endorso.com/vpn/watch/ipl-2026-chennai-super-kings-vs-sunrisers-hyderabad-2026-04-27
URL:https://endorso.com/vpn/watch/ipl-2026-chennai-super-kings-vs-sunrisers-hyderabad-2026-04-27
LOCATION:https://endorso.com/vpn/watch/ipl-2026-chennai-super-kings-vs-sunrisers-hyderabad-2026-04-27
END:VEVENT
END:VCALENDAR