BEGIN:VCALENDAR
VERSION:2.0
PRODID:-//Endorso//Watch Free Events//EN
CALSCALE:GREGORIAN
METHOD:PUBLISH
BEGIN:VEVENT
UID:ipl-2026-chennai-super-kings-vs-mumbai-indians-2026-05-03@endorso.com
DTSTAMP:20260419T140925Z
DTSTART:20260503T140000Z
DTEND:20260503T160000Z
SUMMARY:Chennai Super Kings vs Mumbai Indians — IPL 2026 (Watch Free with VPN)
DESCRIPTION:IPL 2026 match between Chennai Super Kings and Mumbai Indians. A classic rivalry in the IPL\, with both teams aiming for a crucial win.\\n\\nFree on JioCinema (India).\\n\\nFull guide: https://endorso.com/vpn/watch/ipl-2026-chennai-super-kings-vs-mumbai-indians-2026-05-03
URL:https://endorso.com/vpn/watch/ipl-2026-chennai-super-kings-vs-mumbai-indians-2026-05-03
LOCATION:https://endorso.com/vpn/watch/ipl-2026-chennai-super-kings-vs-mumbai-indians-2026-05-03
END:VEVENT
END:VCALENDAR