BEGIN:VCALENDAR
VERSION:2.0
PRODID:-//Endorso//Watch Free Events//EN
CALSCALE:GREGORIAN
METHOD:PUBLISH
BEGIN:VEVENT
UID:ipl-2026-chennai-super-kings-vs-mumbai-indians-2026-04-25@endorso.com
DTSTAMP:20260425T041000Z
DTSTART:20260425T140000Z
DTEND:20260425T160000Z
SUMMARY:Chennai Super Kings vs Mumbai Indians — IPL 2026 (Watch Free with VPN)
DESCRIPTION:The El Clasico of cricket features MS Dhoni's CSK against Hardik Pandya's MI. This high-stakes encounter often determines playoff positioning in the latter half of the season.\\n\\nFree on JioCinema (India).\\n\\nFull guide: https://endorso.com/vpn/watch/ipl-2026-chennai-super-kings-vs-mumbai-indians-2026-04-25
URL:https://endorso.com/vpn/watch/ipl-2026-chennai-super-kings-vs-mumbai-indians-2026-04-25
LOCATION:https://endorso.com/vpn/watch/ipl-2026-chennai-super-kings-vs-mumbai-indians-2026-04-25
END:VEVENT
END:VCALENDAR