BEGIN:VCALENDAR
VERSION:2.0
PRODID:-//Endorso//Watch Free Events//EN
CALSCALE:GREGORIAN
METHOD:PUBLISH
BEGIN:VEVENT
UID:ipl-2026-chennai-super-kings-vs-mumbai-indians-2026-04-24@endorso.com
DTSTAMP:20260424T182854Z
DTSTART:20260424T140000Z
DTEND:20260424T160000Z
SUMMARY:Chennai Super Kings vs Mumbai Indians — IPL 2026 (Watch Free with VPN)
DESCRIPTION:The El Clasico of cricket returns as MS Dhoni's CSK faces Hardik Pandya's MI. This high-stakes encounter often determines playoff positioning in the Indian Premier League.\\n\\nFree on JioCinema (India).\\n\\nFull guide: https://endorso.com/vpn/watch/ipl-2026-chennai-super-kings-vs-mumbai-indians-2026-04-24
URL:https://endorso.com/vpn/watch/ipl-2026-chennai-super-kings-vs-mumbai-indians-2026-04-24
LOCATION:https://endorso.com/vpn/watch/ipl-2026-chennai-super-kings-vs-mumbai-indians-2026-04-24
END:VEVENT
END:VCALENDAR