BEGIN:VCALENDAR
VERSION:2.0
PRODID:-//Endorso//Watch Free Events//EN
CALSCALE:GREGORIAN
METHOD:PUBLISH
BEGIN:VEVENT
UID:ipl-2026-chennai-super-kings-vs-delhi-capitals-2026-05-03@endorso.com
DTSTAMP:20260419T200359Z
DTSTART:20260503T100000Z
DTEND:20260503T120000Z
SUMMARY:Chennai Super Kings vs Delhi Capitals — IPL 2026 (Watch Free with VPN)
DESCRIPTION:IPL 2026 match between Chennai Super Kings and Delhi Capitals. Both teams are looking to secure a crucial win in the league stage to improve their chances of qualifying for the playoffs.\\n\\nFree on JioCinema (India).\\n\\nFull guide: https://endorso.com/vpn/watch/ipl-2026-chennai-super-kings-vs-delhi-capitals-2026-05-03
URL:https://endorso.com/vpn/watch/ipl-2026-chennai-super-kings-vs-delhi-capitals-2026-05-03
LOCATION:https://endorso.com/vpn/watch/ipl-2026-chennai-super-kings-vs-delhi-capitals-2026-05-03
END:VEVENT
END:VCALENDAR