BEGIN:VCALENDAR
VERSION:2.0
PRODID:-//Endorso//Watch Free Events//EN
CALSCALE:GREGORIAN
METHOD:PUBLISH
BEGIN:VEVENT
UID:f1-miami-grand-prix-sprint-qualifying-2026-05-08@endorso.com
DTSTAMP:20260425T111133Z
DTSTART:20260508T213000Z
DTEND:20260508T233000Z
SUMMARY:F1 Miami Grand Prix — Sprint Qualifying (Watch Free with VPN)
DESCRIPTION:The first competitive session of the Miami weekend. Drivers fight for position in the Saturday Sprint.\\n\\nFree on ORF 1 (Austria).\\n\\nFull guide: https://endorso.com/vpn/watch/f1-miami-grand-prix-sprint-qualifying-2026-05-08
URL:https://endorso.com/vpn/watch/f1-miami-grand-prix-sprint-qualifying-2026-05-08
LOCATION:https://endorso.com/vpn/watch/f1-miami-grand-prix-sprint-qualifying-2026-05-08
END:VEVENT
END:VCALENDAR