BEGIN:VCALENDAR
VERSION:2.0
PRODID:-//Endorso//Watch Free Events//EN
CALSCALE:GREGORIAN
METHOD:PUBLISH
BEGIN:VEVENT
UID:f1-miami-grand-prix-sprint-qualifying-2026-05-01@endorso.com
DTSTAMP:20260422T044953Z
DTSTART:20260501T213000Z
DTEND:20260501T233000Z
SUMMARY:F1 Miami Grand Prix — Sprint Qualifying (Watch Free with VPN)
DESCRIPTION:The first competitive session of the Miami weekend. Drivers fight for the starting grid of Saturday's Sprint race.\\n\\nFree on ORF 1 (Austria).\\n\\nFull guide: https://endorso.com/vpn/watch/f1-miami-grand-prix-sprint-qualifying-2026-05-01
URL:https://endorso.com/vpn/watch/f1-miami-grand-prix-sprint-qualifying-2026-05-01
LOCATION:https://endorso.com/vpn/watch/f1-miami-grand-prix-sprint-qualifying-2026-05-01
END:VEVENT
END:VCALENDAR