BEGIN:VCALENDAR
VERSION:2.0
PRODID:-//Endorso//Watch Free Events//EN
CALSCALE:GREGORIAN
METHOD:PUBLISH
BEGIN:VEVENT
UID:f1-miami-grand-prix-sprint-2026-05-09@endorso.com
DTSTAMP:20260425T162629Z
DTSTART:20260509T160000Z
DTEND:20260509T180000Z
SUMMARY:F1 Miami Grand Prix — Sprint Race (Watch Free with VPN)
DESCRIPTION:A 100km sprint around the Miami International Autodrome. No pit stops required\, just pure racing for championship points.\\n\\nFree on ServusTV (Austria).\\n\\nFull guide: https://endorso.com/vpn/watch/f1-miami-grand-prix-sprint-2026-05-09
URL:https://endorso.com/vpn/watch/f1-miami-grand-prix-sprint-2026-05-09
LOCATION:https://endorso.com/vpn/watch/f1-miami-grand-prix-sprint-2026-05-09
END:VEVENT
END:VCALENDAR