BEGIN:VCALENDAR
VERSION:2.0
PRODID:-//Endorso//Watch Free Events//EN
CALSCALE:GREGORIAN
METHOD:PUBLISH
BEGIN:VEVENT
UID:f1-miami-grand-prix-sprint-2026-05-02@endorso.com
DTSTAMP:20260422T045056Z
DTSTART:20260502T160000Z
DTEND:20260502T180000Z
SUMMARY:F1 Miami Grand Prix — Sprint Race (Watch Free with VPN)
DESCRIPTION:A 100km dash around the Hard Rock Stadium. No pit stops required\, just pure racing for championship points.\\n\\nFree on ORF 1 (Austria).\\n\\nFull guide: https://endorso.com/vpn/watch/f1-miami-grand-prix-sprint-2026-05-02
URL:https://endorso.com/vpn/watch/f1-miami-grand-prix-sprint-2026-05-02
LOCATION:https://endorso.com/vpn/watch/f1-miami-grand-prix-sprint-2026-05-02
END:VEVENT
END:VCALENDAR