BEGIN:VCALENDAR
VERSION:2.0
PRODID:-//Endorso//Watch Free Events//EN
CALSCALE:GREGORIAN
METHOD:PUBLISH
BEGIN:VEVENT
UID:f1-miami-grand-prix-race-2026-05-03@endorso.com
DTSTAMP:20260422T045106Z
DTSTART:20260503T200000Z
DTEND:20260503T220000Z
SUMMARY:F1 Miami Grand Prix — Race (Watch Free with VPN)
DESCRIPTION:The 2026 Miami Grand Prix. A spectacle of speed and celebrity as the F1 circus takes over Florida for the fifth time.\\n\\nFree on ORF 1 (Austria).\\n\\nFull guide: https://endorso.com/vpn/watch/f1-miami-grand-prix-race-2026-05-03
URL:https://endorso.com/vpn/watch/f1-miami-grand-prix-race-2026-05-03
LOCATION:https://endorso.com/vpn/watch/f1-miami-grand-prix-race-2026-05-03
END:VEVENT
END:VCALENDAR