BEGIN:VCALENDAR
VERSION:2.0
PRODID:-//Endorso//Watch Free Events//EN
CALSCALE:GREGORIAN
METHOD:PUBLISH
BEGIN:VEVENT
UID:f1-miami-grand-prix-qualifying-2026-05-02@endorso.com
DTSTAMP:20260422T044845Z
DTSTART:20260502T200000Z
DTEND:20260502T220000Z
SUMMARY:F1 Miami Grand Prix — Qualifying (Watch Free with VPN)
DESCRIPTION:The main qualifying session to determine the grid for Sunday's Grand Prix. Precision is key through the tight chicane section.\\n\\nFree on ORF 1 (Austria).\\n\\nFull guide: https://endorso.com/vpn/watch/f1-miami-grand-prix-qualifying-2026-05-02
URL:https://endorso.com/vpn/watch/f1-miami-grand-prix-qualifying-2026-05-02
LOCATION:https://endorso.com/vpn/watch/f1-miami-grand-prix-qualifying-2026-05-02
END:VEVENT
END:VCALENDAR