BEGIN:VCALENDAR
VERSION:2.0
PRODID:-//Endorso//Watch Free Events//EN
CALSCALE:GREGORIAN
METHOD:PUBLISH
BEGIN:VEVENT
UID:f1-miami-grand-prix-practice-3-2026-05-09@endorso.com
DTSTAMP:20260425T040509Z
DTSTART:20260509T163000Z
DTEND:20260509T183000Z
SUMMARY:F1 Miami Grand Prix — Practice 3 (Watch Free with VPN)
DESCRIPTION:Final preparations in the Florida heat. Teams make last-minute adjustments before the critical qualifying session.\\n\\nFree on ServusTV (Austria).\\n\\nFull guide: https://endorso.com/vpn/watch/f1-miami-grand-prix-practice-3-2026-05-09
URL:https://endorso.com/vpn/watch/f1-miami-grand-prix-practice-3-2026-05-09
LOCATION:https://endorso.com/vpn/watch/f1-miami-grand-prix-practice-3-2026-05-09
END:VEVENT
END:VCALENDAR