BEGIN:VCALENDAR
VERSION:2.0
PRODID:-//Endorso//Watch Free Events//EN
CALSCALE:GREGORIAN
METHOD:PUBLISH
BEGIN:VEVENT
UID:f1-miami-grand-prix-practice-2-2026-05-08@endorso.com
DTSTAMP:20260424T182333Z
DTSTART:20260508T210000Z
DTEND:20260508T230000Z
SUMMARY:F1 Miami Grand Prix — Practice 2 (Watch Free with VPN)
DESCRIPTION:The second practice session in Miami as the sun begins to set. Teams focus on long-run simulations and qualifying trim.\\n\\nFree on ServusTV (Austria).\\n\\nFull guide: https://endorso.com/vpn/watch/f1-miami-grand-prix-practice-2-2026-05-08
URL:https://endorso.com/vpn/watch/f1-miami-grand-prix-practice-2-2026-05-08
LOCATION:https://endorso.com/vpn/watch/f1-miami-grand-prix-practice-2-2026-05-08
END:VEVENT
END:VCALENDAR