BEGIN:VCALENDAR
VERSION:2.0
PRODID:-//Endorso//Watch Free Events//EN
CALSCALE:GREGORIAN
METHOD:PUBLISH
BEGIN:VEVENT
UID:f1-miami-grand-prix-practice-1-2026-05-08@endorso.com
DTSTAMP:20260424T182102Z
DTSTART:20260508T173000Z
DTEND:20260508T193000Z
SUMMARY:F1 Miami Grand Prix — Practice 1 (Watch Free with VPN)
DESCRIPTION:Formula 1 arrives in the United States for the Miami Grand Prix. Practice begins around the Hard Rock Stadium circuit.\\n\\nFree on ServusTV (Austria).\\n\\nFull guide: https://endorso.com/vpn/watch/f1-miami-grand-prix-practice-1-2026-05-08
URL:https://endorso.com/vpn/watch/f1-miami-grand-prix-practice-1-2026-05-08
LOCATION:https://endorso.com/vpn/watch/f1-miami-grand-prix-practice-1-2026-05-08
END:VEVENT
END:VCALENDAR