BEGIN:VCALENDAR
VERSION:2.0
PRODID:-//Endorso//Watch Free Events//EN
CALSCALE:GREGORIAN
METHOD:PUBLISH
BEGIN:VEVENT
UID:f1-miami-grand-prix-practice-1-2026-05-01@endorso.com
DTSTAMP:20260422T045024Z
DTSTART:20260501T173000Z
DTEND:20260501T193000Z
SUMMARY:F1 Miami Grand Prix — Practice 1 (Watch Free with VPN)
DESCRIPTION:F1 returns to the Miami International Autodrome. Practice 1 is vital for understanding the track surface and heat management.\\n\\nFree on ORF 1 (Austria).\\n\\nFull guide: https://endorso.com/vpn/watch/f1-miami-grand-prix-practice-1-2026-05-01
URL:https://endorso.com/vpn/watch/f1-miami-grand-prix-practice-1-2026-05-01
LOCATION:https://endorso.com/vpn/watch/f1-miami-grand-prix-practice-1-2026-05-01
END:VEVENT
END:VCALENDAR