BEGIN:VCALENDAR
VERSION:2.0
PRODID:-//Endorso//Watch Free Events//EN
CALSCALE:GREGORIAN
METHOD:PUBLISH
BEGIN:VEVENT
UID:f1-emilia-romagna-gp-race-2026-04-26@endorso.com
DTSTAMP:20260419T140143Z
DTSTART:20260426T130000Z
DTEND:20260426T150000Z
SUMMARY:Emilia Romagna GP - Race (Watch Free with VPN)
DESCRIPTION:The Emilia Romagna Grand Prix. Drivers compete for victory on the Imola circuit. Tune in to see who will take the chequered flag.\\n\\nFree on ORF (Austria).\\n\\nFull guide: https://endorso.com/vpn/watch/f1-emilia-romagna-gp-race-2026-04-26
URL:https://endorso.com/vpn/watch/f1-emilia-romagna-gp-race-2026-04-26
LOCATION:https://endorso.com/vpn/watch/f1-emilia-romagna-gp-race-2026-04-26
END:VEVENT
END:VCALENDAR