BEGIN:VCALENDAR
VERSION:2.0
PRODID:-//Endorso//Watch Free Events//EN
CALSCALE:GREGORIAN
METHOD:PUBLISH
BEGIN:VEVENT
UID:f1-emilia-romagna-gp-qualifying-2026-04-25@endorso.com
DTSTAMP:20260419T140112Z
DTSTART:20260425T130000Z
DTEND:20260425T150000Z
SUMMARY:Emilia Romagna GP - Qualifying (Watch Free with VPN)
DESCRIPTION:Qualifying session for the Emilia Romagna Grand Prix. Drivers battle for the best starting positions on the grid. Watch live to see who secures pole position.\\n\\nFree on ORF (Austria).\\n\\nFull guide: https://endorso.com/vpn/watch/f1-emilia-romagna-gp-qualifying-2026-04-25
URL:https://endorso.com/vpn/watch/f1-emilia-romagna-gp-qualifying-2026-04-25
LOCATION:https://endorso.com/vpn/watch/f1-emilia-romagna-gp-qualifying-2026-04-25
END:VEVENT
END:VCALENDAR