BEGIN:VCALENDAR
VERSION:2.0
PRODID:-//Endorso//Watch Free Events//EN
CALSCALE:GREGORIAN
METHOD:PUBLISH
BEGIN:VEVENT
UID:f1-emilia-romagna-gp-practice-3-2026-04-25@endorso.com
DTSTAMP:20260419T140133Z
DTSTART:20260425T093000Z
DTEND:20260425T113000Z
SUMMARY:Emilia Romagna GP - Practice 3 (Watch Free with VPN)
DESCRIPTION:Final practice session before qualifying for the Emilia Romagna Grand Prix. Teams make last-minute adjustments to their cars. Watch live to see who has the edge going into qualifying.\\n\\nFree on ServusTV (Austria).\\n\\nFull guide: https://endorso.com/vpn/watch/f1-emilia-romagna-gp-practice-3-2026-04-25
URL:https://endorso.com/vpn/watch/f1-emilia-romagna-gp-practice-3-2026-04-25
LOCATION:https://endorso.com/vpn/watch/f1-emilia-romagna-gp-practice-3-2026-04-25
END:VEVENT
END:VCALENDAR