BEGIN:VCALENDAR
VERSION:2.0
PRODID:-//Endorso//Watch Free Events//EN
CALSCALE:GREGORIAN
METHOD:PUBLISH
BEGIN:VEVENT
UID:f1-chinese-grand-prix-race-2026-04-26@endorso.com
DTSTAMP:20260420T111632Z
DTSTART:20260426T070000Z
DTEND:20260426T090000Z
SUMMARY:F1 Chinese Grand Prix - Race (Watch Free with VPN)
DESCRIPTION:The main event of the Chinese Grand Prix weekend. Drivers compete for victory on the Shanghai International Circuit. Expect thrilling overtakes and strategic battles.\\n\\nFree on ORF (Austria).\\n\\nFull guide: https://endorso.com/vpn/watch/f1-chinese-grand-prix-race-2026-04-26
URL:https://endorso.com/vpn/watch/f1-chinese-grand-prix-race-2026-04-26
LOCATION:https://endorso.com/vpn/watch/f1-chinese-grand-prix-race-2026-04-26
END:VEVENT
END:VCALENDAR