BEGIN:VCALENDAR
VERSION:2.0
PRODID:-//Endorso//Watch Free Events//EN
CALSCALE:GREGORIAN
METHOD:PUBLISH
BEGIN:VEVENT
UID:f1-chinese-grand-prix-qualifying-2026-04-25@endorso.com
DTSTAMP:20260420T111514Z
DTSTART:20260425T070000Z
DTEND:20260425T090000Z
SUMMARY:F1 Chinese Grand Prix - Qualifying (Watch Free with VPN)
DESCRIPTION:Qualifying session for the Chinese Grand Prix. Drivers battle for the best starting positions on the grid. A thrilling session with high stakes.\\n\\nFree on ORF (Austria).\\n\\nFull guide: https://endorso.com/vpn/watch/f1-chinese-grand-prix-qualifying-2026-04-25
URL:https://endorso.com/vpn/watch/f1-chinese-grand-prix-qualifying-2026-04-25
LOCATION:https://endorso.com/vpn/watch/f1-chinese-grand-prix-qualifying-2026-04-25
END:VEVENT
END:VCALENDAR