BEGIN:VCALENDAR
VERSION:2.0
PRODID:-//Endorso//Watch Free Events//EN
CALSCALE:GREGORIAN
METHOD:PUBLISH
BEGIN:VEVENT
UID:f1-chinese-grand-prix-practice-3-2026-04-25@endorso.com
DTSTAMP:20260420T111546Z
DTSTART:20260425T033000Z
DTEND:20260425T053000Z
SUMMARY:F1 Chinese Grand Prix - Practice 3 (Watch Free with VPN)
DESCRIPTION:Final practice session before qualifying for the Chinese Grand Prix. Teams fine-tune their cars for optimal performance. Watch to see who has the edge going into qualifying.\\n\\nFree on ServusTV (Austria).\\n\\nFull guide: https://endorso.com/vpn/watch/f1-chinese-grand-prix-practice-3-2026-04-25
URL:https://endorso.com/vpn/watch/f1-chinese-grand-prix-practice-3-2026-04-25
LOCATION:https://endorso.com/vpn/watch/f1-chinese-grand-prix-practice-3-2026-04-25
END:VEVENT
END:VCALENDAR