BEGIN:VCALENDAR
VERSION:2.0
PRODID:-//Endorso//Watch Free Events//EN
CALSCALE:GREGORIAN
METHOD:PUBLISH
BEGIN:VEVENT
UID:europa-league-semi-final-leg-2-match-1-2026-05-07@endorso.com
DTSTAMP:20260424T182634Z
DTSTART:20260507T190000Z
DTEND:20260507T210000Z
SUMMARY:UEFA Europa League Semi-Final Leg 2 — Match 1 (Watch Free with VPN)
DESCRIPTION:The return leg to decide who travels to the final. High stakes for clubs looking to secure silverware and Champions League qualification.\\n\\nFree on ServusTV (Austria).\\n\\nFull guide: https://endorso.com/vpn/watch/europa-league-semi-final-leg-2-match-1-2026-05-07
URL:https://endorso.com/vpn/watch/europa-league-semi-final-leg-2-match-1-2026-05-07
LOCATION:https://endorso.com/vpn/watch/europa-league-semi-final-leg-2-match-1-2026-05-07
END:VEVENT
END:VCALENDAR