BEGIN:VCALENDAR
VERSION:2.0
PRODID:-//Endorso//Watch Free Events//EN
CALSCALE:GREGORIAN
METHOD:PUBLISH
BEGIN:VEVENT
UID:europa-league-semi-final-leg-1-match-1-2026-04-30@endorso.com
DTSTAMP:20260422T163132Z
DTSTART:20260430T190000Z
DTEND:20260430T210000Z
SUMMARY:UEFA Europa League Semi-Final Leg 1 — Match 1 (Watch Free with VPN)
DESCRIPTION:The road to the Europa League final continues with the first leg of the semi-finals. Intense competition for a guaranteed Champions League spot next season.\\n\\nFree on ITV (United Kingdom).\\n\\nFull guide: https://endorso.com/vpn/watch/europa-league-semi-final-leg-1-match-1-2026-04-30
URL:https://endorso.com/vpn/watch/europa-league-semi-final-leg-1-match-1-2026-04-30
LOCATION:https://endorso.com/vpn/watch/europa-league-semi-final-leg-1-match-1-2026-04-30
END:VEVENT
END:VCALENDAR